BEGIN:VCALENDAR
VERSION:2.0
PRODID:-//Palm Island Resort - ECPv6.15.20//NONSGML v1.0//EN
CALSCALE:GREGORIAN
METHOD:PUBLISH
X-ORIGINAL-URL:https://palmisland.com
X-WR-CALDESC:Events for Palm Island Resort
REFRESH-INTERVAL;VALUE=DURATION:PT1H
X-Robots-Tag:noindex
X-PUBLISHED-TTL:PT1H
BEGIN:VTIMEZONE
TZID:UTC
BEGIN:STANDARD
TZOFFSETFROM:+0000
TZOFFSETTO:+0000
TZNAME:UTC
DTSTART:20250101T000000
END:STANDARD
END:VTIMEZONE
BEGIN:VEVENT
DTSTART;TZID=UTC:20260313T180000
DTEND;TZID=UTC:20260313T180000
DTSTAMP:20260420T100557
CREATED:20260227T171721Z
LAST-MODIFIED:20260227T172830Z
UID:50714-1773424800-1773424800@palmisland.com
SUMMARY:Magic with Glenn
DESCRIPTION:Join us for an enchanting evening of wonder and entertainment with Magic with Glenn on March 13th at 6:00 PM at the Gazebo. \nPrepare to be amazed as Glenn brings mind-blowing illusions\, captivating tricks\, and plenty of fun for all ages. It’s the perfect way to spend a magical evening with friends and family. \n 
URL:https://palmisland.com/event/magic-with-glenn-2/
LOCATION:Palm Island Resort\, 7092 Placida Rd.\, Cape Haze\, Florida\, 22946
ATTACH;FMTTYPE=image/jpeg:https://palmisland.com/wp-content/uploads/2026/02/magic-show-at-palm-island-resort-march-13.jpg
ORGANIZER;CN="Marilee Doeler":MAILTO:activities@palmisland.com
END:VEVENT
END:VCALENDAR